BEGIN:VCALENDAR
VERSION:2.0
PRODID:-//SASSE - ECPv6.11.2.1//NONSGML v1.0//EN
CALSCALE:GREGORIAN
METHOD:PUBLISH
X-ORIGINAL-URL:https://www.sasse.se
X-WR-CALDESC:Events for SASSE
REFRESH-INTERVAL;VALUE=DURATION:PT1H
X-Robots-Tag:noindex
X-PUBLISHED-TTL:PT1H
BEGIN:VTIMEZONE
TZID:Europe/Stockholm
BEGIN:DAYLIGHT
TZOFFSETFROM:+0100
TZOFFSETTO:+0200
TZNAME:CEST
DTSTART:20260329T010000
END:DAYLIGHT
BEGIN:STANDARD
TZOFFSETFROM:+0200
TZOFFSETTO:+0100
TZNAME:CET
DTSTART:20261025T010000
END:STANDARD
END:VTIMEZONE
BEGIN:VEVENT
DTSTART;TZID=Europe/Stockholm:20260428T190000
DTEND;TZID=Europe/Stockholm:20260428T203000
DTSTAMP:20260423T114328
CREATED:20260109T214839Z
LAST-MODIFIED:20260409T100220Z
UID:10017560-1777402800-1777408200@www.sasse.se
SUMMARY:Bouldering Practice 🧗
DESCRIPTION:Come and practice bouldering at BLX in Mall of Scandinavia (no previous experience needed!). \nCoaches: Udyat Kapasi & Rebecca Johansen. \nPlease download the BLX app and set up an account before attending. Also\, please arrive before 19:05 to enter together with the group. \nMall of Scandinavia\, Plan 4\nStjärntorget 13 C\n169 79 Solna\n3 minutes from Solna Station
URL:https://www.sasse.se/event/bouldering-practice-%f0%9f%a7%97-15/2026-04-28/
CATEGORIES:Sports Event
END:VEVENT
BEGIN:VEVENT
DTSTART;TZID=Europe/Stockholm:20260428T200000
DTEND;TZID=Europe/Stockholm:20260428T210000
DTSTAMP:20260423T114328
CREATED:20260112T101702Z
LAST-MODIFIED:20260112T101725Z
UID:10017637-1777406400-1777410000@www.sasse.se
SUMMARY:Tough Viking Practice 💪
DESCRIPTION:Come join SASSE Tough Viking’s at Friskis & Svettis (next to school) at 20:00! \nCoaches: \nAnton Jande Waldau and Manuel Til Oswald
URL:https://www.sasse.se/event/tough-viking-practice-%f0%9f%92%aa-31/2026-04-28/
CATEGORIES:Sports Event
END:VEVENT
BEGIN:VEVENT
DTSTART;TZID=Europe/Stockholm:20260428T200000
DTEND;TZID=Europe/Stockholm:20260428T210000
DTSTAMP:20260423T114328
CREATED:20260301T112255Z
LAST-MODIFIED:20260301T112751Z
UID:10017728-1777406400-1777410000@www.sasse.se
SUMMARY:Padel Practice!
DESCRIPTION:Join Sasse’s padel practice at Ascaro! \nAdress:  Regeringsgatan 47 Entrance NK Parkaden\, 111 56 Stockholm \nCoaches: Carl Sternby and Oscar Sjögren
URL:https://www.sasse.se/event/padel-practice-59/2026-04-28/
CATEGORIES:Sports Event
END:VEVENT
END:VCALENDAR