BEGIN:VCALENDAR
VERSION:2.0
PRODID:-//SASSE - ECPv6.11.2.1//NONSGML v1.0//EN
CALSCALE:GREGORIAN
METHOD:PUBLISH
X-WR-CALNAME:SASSE
X-ORIGINAL-URL:https://www.sasse.se
X-WR-CALDESC:Events for SASSE
REFRESH-INTERVAL;VALUE=DURATION:PT1H
X-Robots-Tag:noindex
X-PUBLISHED-TTL:PT1H
BEGIN:VTIMEZONE
TZID:Europe/Stockholm
BEGIN:DAYLIGHT
TZOFFSETFROM:+0100
TZOFFSETTO:+0200
TZNAME:CEST
DTSTART:20260329T010000
END:DAYLIGHT
BEGIN:STANDARD
TZOFFSETFROM:+0200
TZOFFSETTO:+0100
TZNAME:CET
DTSTART:20261025T010000
END:STANDARD
END:VTIMEZONE
BEGIN:VEVENT
DTSTART;TZID=Europe/Stockholm:20260423T140000
DTEND;TZID=Europe/Stockholm:20260424T120000
DTSTAMP:20260419T162412
CREATED:20260409T144807Z
LAST-MODIFIED:20260409T144846Z
UID:10017775-1776952800-1777032000@www.sasse.se
SUMMARY:Bain X Yasuragi
DESCRIPTION:Curious about management consulting – and your own career path? \nWe invite women students to join us on April 23–24 for an exclusive overnight experience at Yasuragi Spa. Over two inspiring days\, you’ll gain insights into Bain\, our culture\, and what it’s really like to build a career in consulting – all in a calm and scenic setting designed for reflection and connection. \nApplication deadline: April 6
URL:https://www.sasse.se/event/bainxyasuragi/
LOCATION:External
CATEGORIES:Company Event
END:VEVENT
BEGIN:VEVENT
DTSTART;TZID=Europe/Stockholm:20260423T210000
DTEND;TZID=Europe/Stockholm:20260423T223000
DTSTAMP:20260419T162412
CREATED:20260109T212119Z
LAST-MODIFIED:20260109T215447Z
UID:10017481-1776978000-1776983400@www.sasse.se
SUMMARY:Basketball Practice 🏀
DESCRIPTION:Come join SASSE Basketball at GIH\, from 21:00 – 22:30. \nCoach: Viktor Palmgren
URL:https://www.sasse.se/event/basketball-practice-%f0%9f%8f%80-11/2026-04-23/
CATEGORIES:Sports Event
END:VEVENT
BEGIN:VEVENT
DTSTART;TZID=Europe/Stockholm:20260423T210000
DTEND;TZID=Europe/Stockholm:20260423T223000
DTSTAMP:20260419T162412
CREATED:20260109T212506Z
LAST-MODIFIED:20260302T123413Z
UID:10017462-1776978000-1776983400@www.sasse.se
SUMMARY:Football Practice ⚽️
DESCRIPTION:Location – GIH – Lidingövägen 1 \nNote: The practice is indoors!\nCoaches: Gustav Nylander\, Olle Kjellmert\, Ludwig Callebro and Otto Wigstrand
URL:https://www.sasse.se/event/football-practice-%e2%9a%bd%ef%b8%8f-20/2026-04-23/
CATEGORIES:Sports Event
END:VEVENT
END:VCALENDAR