BEGIN:VCALENDAR
VERSION:2.0
PRODID:-//SASSE - ECPv6.11.2.1//NONSGML v1.0//EN
CALSCALE:GREGORIAN
METHOD:PUBLISH
X-ORIGINAL-URL:https://www.sasse.se
X-WR-CALDESC:Events for SASSE
REFRESH-INTERVAL;VALUE=DURATION:PT1H
X-Robots-Tag:noindex
X-PUBLISHED-TTL:PT1H
BEGIN:VTIMEZONE
TZID:Europe/Stockholm
BEGIN:DAYLIGHT
TZOFFSETFROM:+0100
TZOFFSETTO:+0200
TZNAME:CEST
DTSTART:20260329T010000
END:DAYLIGHT
BEGIN:STANDARD
TZOFFSETFROM:+0200
TZOFFSETTO:+0100
TZNAME:CET
DTSTART:20261025T010000
END:STANDARD
END:VTIMEZONE
BEGIN:VEVENT
DTSTART;TZID=Europe/Stockholm:20260421T173000
DTEND;TZID=Europe/Stockholm:20260421T200000
DTSTAMP:20260421T105048
CREATED:20260407T140941Z
LAST-MODIFIED:20260417T153707Z
UID:10017773-1776792600-1776801600@www.sasse.se
SUMMARY:Meet Summa Equity
DESCRIPTION:To all Master and 3rd year Bachelor students: Meet Summa Equity \nYou now have the opportunity to meet Summa Equity and learn more about us and our work. \nAddress: Birger Jarlsgatan 27 \nTuesday\, 21 April at 17:30 \nPlease see attached for more details. If this sounds interesting\, we encourage you to apply soon\, as seats are limited. \nAbout us:\nFounded in 2016\, Summa Equity is an investment firm focused on the thematic areas of Circularity\, Energy Transition\, Sustainable Food\, and Tech-Enabled Resilience. Summa’s purpose is to invest to solve global challenges. \nSumma has raised close to EUR 4 billion and has made 35 platform investments across three funds to date. These investments target the critical challenges society must address\, enabling the potential for long-term outperformance. \nThe team operates across Europe\, with offices in Stockholm\, Oslo and Munich. Partnerships are central to Summa’s approach\, as reflected in its status as a certified B Corporation\, its membership in the PRI System Stewardship Advisory Committee and the GIIN Investors Council\, and its collaboration with the Capitals Coalition. \n—- \nApply by sending your resume to BC President Joleen Li\, bcpres@sasse.se\, and title the mail with “Application Summa Equity”. Apply before Thursday\, April 16. We will confirm attendance by sending a confirmation email. \nBy submitting your resume\, you consent to us processing your personal data in accordance with our guidelines; all resumes will be handled confidentially and deleted after the recruitment process is completed.
URL:https://www.sasse.se/event/meet-summa-equity/
CATEGORIES:Company Event
END:VEVENT
BEGIN:VEVENT
DTSTART;TZID=Europe/Stockholm:20260421T190000
DTEND;TZID=Europe/Stockholm:20260421T203000
DTSTAMP:20260421T105048
CREATED:20260419T181309Z
LAST-MODIFIED:20260419T181309Z
UID:10017559-1776798000-1776803400@www.sasse.se
SUMMARY:Bouldering Practice 🧗
DESCRIPTION:Come and practice bouldering at BLX in Mall of Scandinavia (no previous experience needed!). \nCoaches: Udyat Kapasi & Rebecca Johansen. \nPlease download the BLX app and set up an account before attending. Also\, please arrive before 19:05 to enter together with the group. \nMall of Scandinavia\, Plan 4\nStjärntorget 13 C\n169 79 Solna\n3 minutes from Solna Station
URL:https://www.sasse.se/event/bouldering-practice-%f0%9f%a7%97-15-15/
CATEGORIES:Sports Event
END:VEVENT
BEGIN:VEVENT
DTSTART;TZID=Europe/Stockholm:20260421T200000
DTEND;TZID=Europe/Stockholm:20260421T210000
DTSTAMP:20260421T105048
CREATED:20260419T181202Z
LAST-MODIFIED:20260419T181202Z
UID:10017727-1776801600-1776805200@www.sasse.se
SUMMARY:Padel Practice!
DESCRIPTION:Join Sasse’s padel practice at Ascaro! \nAdress:  Regeringsgatan 47 Entrance NK Parkaden\, 111 56 Stockholm \nCoaches: Carl Sternby and Oscar Sjögren
URL:https://www.sasse.se/event/padel-practice-59-9/
CATEGORIES:Sports Event
END:VEVENT
BEGIN:VEVENT
DTSTART;TZID=Europe/Stockholm:20260421T200000
DTEND;TZID=Europe/Stockholm:20260421T210000
DTSTAMP:20260421T105048
CREATED:20260419T181343Z
LAST-MODIFIED:20260419T181343Z
UID:10017636-1776801600-1776805200@www.sasse.se
SUMMARY:Tough Viking Practice 💪
DESCRIPTION:Come join SASSE Tough Viking’s at Friskis & Svettis (next to school) at 20:00! \nCoaches: \nAnton Jande Waldau and Manuel Til Oswald
URL:https://www.sasse.se/event/tough-viking-practice-%f0%9f%92%aa-31-15/
CATEGORIES:Sports Event
END:VEVENT
END:VCALENDAR