BEGIN:VCALENDAR
VERSION:2.0
PRODID:-//SASSE - ECPv6.11.2.1//NONSGML v1.0//EN
CALSCALE:GREGORIAN
METHOD:PUBLISH
X-ORIGINAL-URL:https://www.sasse.se
X-WR-CALDESC:Events for SASSE
REFRESH-INTERVAL;VALUE=DURATION:PT1H
X-Robots-Tag:noindex
X-PUBLISHED-TTL:PT1H
BEGIN:VTIMEZONE
TZID:Europe/Stockholm
BEGIN:DAYLIGHT
TZOFFSETFROM:+0100
TZOFFSETTO:+0200
TZNAME:CEST
DTSTART:20260329T010000
END:DAYLIGHT
BEGIN:STANDARD
TZOFFSETFROM:+0200
TZOFFSETTO:+0100
TZNAME:CET
DTSTART:20261025T010000
END:STANDARD
END:VTIMEZONE
BEGIN:VEVENT
DTSTART;TZID=Europe/Stockholm:20260401T121500
DTEND;TZID=Europe/Stockholm:20260401T130000
DTSTAMP:20260421T121125
CREATED:20260328T111322Z
LAST-MODIFIED:20260328T111625Z
UID:10017749-1775045700-1775048400@www.sasse.se
SUMMARY:Alumni Panel ArtDivision
DESCRIPTION:ArtDivision is happy to present: Artful careers  – an inspirational panel discussion.\n\nHow can I take my SSE degree into the cultural sector? What work opportunities exist there? In what ways can business expertise be combined with the art market? ArtDivision invites you to a lunch talk with four former SSE students\, all working in the intersection of arts and business. A wrap will be served.\n\nWe proudly present our panelists: \nVendela Angerlöv (class of ‘22) works as Fund Operations Senior Associate at Arte Collectum\, an impact investment fund with art as the underlying asset. \nCecilia Hillström (class of ‘91) is the owner and director at Cecilia Hillström Gallery\, one of the leading art spaces of Sweden. \nIsak Nilson (class of ‘18) founded ArtDivision during his time at SSE\, and is today working as Head of Development Office at the Royal Swedish Opera. \nDouglas Bengtsson (class of ‘24) is today working as an analyst at Sellpy and simultaneously running the start-up “Crossroads” together with two other SSE alumni. \nWith this\, we aim to broaden the view of where a degree from SSE can take you\, and hopefully inspire those curious about taking a different path after graduation. \n\nPlace: A350 \nDate: 1st of April \nTime: 12:15 – 13:00 \nApply here
URL:https://www.sasse.se/event/alumni-panel-artdivision/
CATEGORIES:Social Event
END:VEVENT
BEGIN:VEVENT
DTSTART;TZID=Europe/Stockholm:20260401T200000
DTEND;TZID=Europe/Stockholm:20260401T213000
DTSTAMP:20260421T121125
CREATED:20260329T113302Z
LAST-MODIFIED:20260329T113303Z
UID:10017614-1775073600-1775079000@www.sasse.se
SUMMARY:Boxing Practice 🥊
DESCRIPTION:Come join SASSE boxing 20:00-21:30 at Djurgården Boxning. \nCoaches: Haris Jasarevic & Alexios Konialidis
URL:https://www.sasse.se/event/boxing-practice-%f0%9f%a5%8a-4-2/
CATEGORIES:Sports Event
END:VEVENT
BEGIN:VEVENT
DTSTART;TZID=Europe/Stockholm:20260401T220000
DTEND;TZID=Europe/Stockholm:20260401T230000
DTSTAMP:20260421T121125
CREATED:20260329T113342Z
LAST-MODIFIED:20260329T113342Z
UID:10017595-1775080800-1775084400@www.sasse.se
SUMMARY:Tennis Practice 🎾
DESCRIPTION:Ludvig Emilsson Loringer and Sophie Good: \nTennis practice is held at Salk!!
URL:https://www.sasse.se/event/tennis-practice-%f0%9f%8e%be-31-7-2/
CATEGORIES:Sports Event
END:VEVENT
END:VCALENDAR