BEGIN:VCALENDAR
VERSION:2.0
PRODID:-//SASSE - ECPv6.11.2.1//NONSGML v1.0//EN
CALSCALE:GREGORIAN
METHOD:PUBLISH
X-WR-CALNAME:SASSE
X-ORIGINAL-URL:https://www.sasse.se
X-WR-CALDESC:Events for SASSE
REFRESH-INTERVAL;VALUE=DURATION:PT1H
X-Robots-Tag:noindex
X-PUBLISHED-TTL:PT1H
BEGIN:VTIMEZONE
TZID:Europe/Stockholm
BEGIN:DAYLIGHT
TZOFFSETFROM:+0100
TZOFFSETTO:+0200
TZNAME:CEST
DTSTART:20230326T010000
END:DAYLIGHT
BEGIN:STANDARD
TZOFFSETFROM:+0200
TZOFFSETTO:+0100
TZNAME:CET
DTSTART:20231029T010000
END:STANDARD
END:VTIMEZONE
BEGIN:VEVENT
DTSTART;TZID=Europe/Stockholm:20230918T120000
DTEND;TZID=Europe/Stockholm:20230918T130000
DTSTAMP:20260424T123925
CREATED:20230908T084830Z
LAST-MODIFIED:20230908T084830Z
UID:10000121-1695038400-1695042000@www.sasse.se
SUMMARY:Fidelio - Lunch Presentation
DESCRIPTION:Fidelio is looking to add new talent to our team \nWe would like to invite you to a lunch presentation! \n\nWe will take the chance to give you a brief introduction to Fidelio and how we create industry leading returns by combining the best of private equity\, entrepreneurship and family ownership \n\nThis will be an excellent opportunity to be fast-tracked to interviews for our Investment Analyst internship programmes in London and Stockholm \nDate: 18th September \nPlace: Torsten \nTime: 12.00-13.00 \nApply by submitting your CV to: \nrecruitment@fideliocapital.se \nDeadline 14th of September \n 
URL:https://www.sasse.se/event/fidelio-lunch-presentation/
CATEGORIES:Company Event
ATTACH;FMTTYPE=application/pdf:https://www.sasse.se/wp-content/uploads/2023/09/fidelio-poster-v1.pptx.pdf
END:VEVENT
BEGIN:VEVENT
DTSTART;TZID=Europe/Stockholm:20230918T163000
DTEND;TZID=Europe/Stockholm:20230918T173000
DTSTAMP:20260424T123925
CREATED:20230924T180732Z
LAST-MODIFIED:20230924T180732Z
UID:10000158-1695054600-1695058200@www.sasse.se
SUMMARY:Golf Practice
DESCRIPTION:Venue: Årsta Golf \nCoach info: \nChristoffer Juvas & Eric Ridderström
URL:https://www.sasse.se/event/golf-practice-3/
LOCATION:Årsta Golf\, Östbergavägen\, 125 73 Älvsjö
CATEGORIES:Sports Event
ATTACH;FMTTYPE=image/jpeg:https://www.sasse.se/wp-content/uploads/2023/09/idu-logga-e1694272046864.jpg
END:VEVENT
BEGIN:VEVENT
DTSTART;TZID=Europe/Stockholm:20230918T200000
DTEND;TZID=Europe/Stockholm:20230918T210000
DTSTAMP:20260424T123925
CREATED:20230917T141646Z
LAST-MODIFIED:20230917T192609Z
UID:10000140-1695067200-1695070800@www.sasse.se
SUMMARY:Padel Practice
DESCRIPTION:Venue Info: Take the elevator inside NK Saluhall all the way up to NK Ascaro! \nCoach info: \nFilip Sundin & Gustav Zetterqvist
URL:https://www.sasse.se/event/padel-practice-4/
LOCATION:NK Ascaro\, Regeringsgatan 47\, 111 56 Stockholm
CATEGORIES:Sports Event
END:VEVENT
END:VCALENDAR