BEGIN:VCALENDAR
VERSION:2.0
PRODID:-//SASSE - ECPv6.11.2.1//NONSGML v1.0//EN
CALSCALE:GREGORIAN
METHOD:PUBLISH
X-WR-CALNAME:SASSE
X-ORIGINAL-URL:https://www.sasse.se
X-WR-CALDESC:Events for SASSE
REFRESH-INTERVAL;VALUE=DURATION:PT1H
X-Robots-Tag:noindex
X-PUBLISHED-TTL:PT1H
BEGIN:VTIMEZONE
TZID:Europe/Stockholm
BEGIN:DAYLIGHT
TZOFFSETFROM:+0100
TZOFFSETTO:+0200
TZNAME:CEST
DTSTART:20230326T010000
END:DAYLIGHT
BEGIN:STANDARD
TZOFFSETFROM:+0200
TZOFFSETTO:+0100
TZNAME:CET
DTSTART:20231029T010000
END:STANDARD
END:VTIMEZONE
BEGIN:VEVENT
DTSTART;TZID=Europe/Stockholm:20230914T083000
DTEND;TZID=Europe/Stockholm:20230914T100000
DTSTAMP:20260424T095452
CREATED:20230828T164925Z
LAST-MODIFIED:20230828T164925Z
UID:10000094-1694680200-1694685600@www.sasse.se
SUMMARY:Join us in building best-in-class companies - Investor Event
DESCRIPTION:Join us in building best-in-class companies – Investor Listed Companies and Patricia Industries are looking for bright individuals to work full-time alongside our investment professionals. To give some more flavor to what we do\, we invite you to a breakfast at The Sparrow Hotel on September 14 at 8:30 AM where you will get a chance to meet colleagues from our two investment divisions\, get to know more about the work we do and the internship we offer. \n\nDeadline breakfast: Sunday\, September 10 \nDeadline internship: Sunday\, September 17 \n\nRead more and apply to both the breakfast and internship at: career.investorab.com
URL:https://www.sasse.se/event/join-us-in-building-best-in-class-companies-investor-event/
CATEGORIES:Company Event
ATTACH;FMTTYPE=application/pdf:https://www.sasse.se/wp-content/uploads/2023/08/investor-ad-sept-2023.pdf
END:VEVENT
BEGIN:VEVENT
DTSTART;TZID=Europe/Stockholm:20230914T180000
DTEND;TZID=Europe/Stockholm:20230914T200000
DTSTAMP:20260424T095452
CREATED:20230828T164212Z
LAST-MODIFIED:20230828T164212Z
UID:10000093-1694714400-1694721600@www.sasse.se
SUMMARY:Cracking the case with Lumell
DESCRIPTION:Curious about the life as a management consultant at Lumell? \nWe invite students in years 3-5 at SSE to a case night at our office. You will work together with students from different educational backgrounds and get a taste of what it is like to work as a management consultant at Lumell. During the evening you have the chance to get to know us better\, and in the end of the evening we will enjoy dinner together. \nDate: 14 September \nTime: 17.30 – 21.00 \nPlace: Our office at Scheelegatan 19\, Stockholm \nRegistration: Register by submitting your CV and university grades at https://emp.jobylon.com/jobs/196709-lumell-associates-valkommen-pa-casekvall-den-14-september/ by 7 September. The number of participants is limited\, and selection is done continuously. \n  \nQuestions? Please contact info@lumell.se \n  \nThe event will be held in Swedish. \nLumell Associates is a Swedish top-tier strategy consultancy based in Stockholm. We specialise in healthcare\, life science and related sectors. \n 
URL:https://www.sasse.se/event/cracking-the-case-with-lumell/
CATEGORIES:Company Event
ATTACH;FMTTYPE=image/png:https://www.sasse.se/wp-content/uploads/2023/08/case-night-2023-facebook-1.png
END:VEVENT
BEGIN:VEVENT
DTSTART;TZID=Europe/Stockholm:20230914T210000
DTEND;TZID=Europe/Stockholm:20230914T223000
DTSTAMP:20260424T095452
CREATED:20230903T163640Z
LAST-MODIFIED:20230913T101201Z
UID:10000114-1694725200-1694730600@www.sasse.se
SUMMARY:Football Practice
DESCRIPTION:Venue Info: The entrance is towards Stadion (The Arena) next to GIHs outdoor tennis courts \nCoach info: \nAxel Henderup\, Dinda Winkler\, Herman Nou\, Philip Wallin Remmer
URL:https://www.sasse.se/event/football-open-practice/
LOCATION:GIH\, Lidingövägen 1\, 114 33 Stockholm
CATEGORIES:Sports Event
END:VEVENT
BEGIN:VEVENT
DTSTART;TZID=Europe/Stockholm:20230914T210000
DTEND;TZID=Europe/Stockholm:20230914T223000
DTSTAMP:20260424T095452
CREATED:20230919T173133Z
LAST-MODIFIED:20230920T103918Z
UID:10000153-1694725200-1694730600@www.sasse.se
SUMMARY:Basketball Practice
DESCRIPTION:Venue Info: The entrance is towards Stadion (The Arena) next to GIHs outdoor tennis courts \nCoach info: \nJoakim Falck
URL:https://www.sasse.se/event/basketball-practice/
LOCATION:GIH\, Lidingövägen 1\, 114 33 Stockholm
CATEGORIES:Sports Event
END:VEVENT
END:VCALENDAR